BEGIN:VCALENDAR
VERSION:2.0
PRODID:-//Bong Naturalist Association - ECPv6.15.20//NONSGML v1.0//EN
CALSCALE:GREGORIAN
METHOD:PUBLISH
X-WR-CALNAME:Bong Naturalist Association
X-ORIGINAL-URL:https://bongnaturalistassociation.org
X-WR-CALDESC:Events for Bong Naturalist Association
REFRESH-INTERVAL;VALUE=DURATION:PT1H
X-Robots-Tag:noindex
X-PUBLISHED-TTL:PT1H
BEGIN:VTIMEZONE
TZID:America/Chicago
BEGIN:DAYLIGHT
TZOFFSETFROM:-0600
TZOFFSETTO:-0500
TZNAME:CDT
DTSTART:20250309T080000
END:DAYLIGHT
BEGIN:STANDARD
TZOFFSETFROM:-0500
TZOFFSETTO:-0600
TZNAME:CST
DTSTART:20251102T070000
END:STANDARD
BEGIN:DAYLIGHT
TZOFFSETFROM:-0600
TZOFFSETTO:-0500
TZNAME:CDT
DTSTART:20260308T080000
END:DAYLIGHT
BEGIN:STANDARD
TZOFFSETFROM:-0500
TZOFFSETTO:-0600
TZNAME:CST
DTSTART:20261101T070000
END:STANDARD
BEGIN:DAYLIGHT
TZOFFSETFROM:-0600
TZOFFSETTO:-0500
TZNAME:CDT
DTSTART:20270314T080000
END:DAYLIGHT
BEGIN:STANDARD
TZOFFSETFROM:-0500
TZOFFSETTO:-0600
TZNAME:CST
DTSTART:20271107T070000
END:STANDARD
END:VTIMEZONE
BEGIN:VEVENT
DTSTART;TZID=America/Chicago:20260517T130000
DTEND;TZID=America/Chicago:20260517T150000
DTSTAMP:20260420T085443
CREATED:20260318T230902Z
LAST-MODIFIED:20260318T230902Z
UID:9375-1779022800-1779030000@bongnaturalistassociation.org
SUMMARY:Buckthorn Removal Volunteer Day at RBSRA!!!
DESCRIPTION:  \nBuckthorn Removal Volunteer Day at RBSRA!!! \nSunday\, May 17th \n1:00 – 3:00 pm \n  \n  \nCome help the Bong Naturalist Association (BNA) clear Buckthorn from around the Richard Bong State Recreation Area (RBSRA) Visitor Center on Sunday May 17th from 1:00 – 3:00 pm. \nNear the Bong Visitor Center we have some beautiful\, mature hardwood trees. Unfortunately\, underneath these trees\, Buckthorn has moved in! \nWill you help us make this park area more appealing?  The park staff cannot do a prescribed burn here as it is too close to buildings so it has to be done manually. \n\n\n\nBe sure to wear long pants\, a long sleeve shirt and sturdy shoes. Bring safety glasses and work gloves (Buckthorn).\nBNA will provide loppers.\nA certified BNA volunteer will treat the stumps and fellow volunteers will haul away the piles brush.\nStay and help us for as long as you like.\n\n\n\nNote:  If you have school service hours to fulfill\, we can sign off on your time spent volunteering. \nJust a reminder that all events require a Wisconsin State Park entrance sticker or daily entrance fee. \nShare this:\n				Email a link to a friend (Opens in new window)\n				Email\n			\n				Share on Facebook (Opens in new window)\n				Facebook\n			\n				Share on X (Opens in new window)\n				X\n			\n				Share on Pinterest (Opens in new window)\n				Pinterest\n			\n				Print (Opens in new window)\n				Print
URL:https://bongnaturalistassociation.org/event/buckthorn-removal-volunteer-day-at-rbsra/
LOCATION:Visitor Center\, 26313 Burlington Road\, Kansasville\, WI\, 53139\, United States
END:VEVENT
END:VCALENDAR